Workbook

Sheet Summert
A1: Budsjett 2027 | E1: Resultat 2027
A2: Hva | B2: UT | D2: INN | E2: UT | G2: INN
A5: Bidrag/utgifter fra områder | B5: =Områder!B28 -> 0 | C5: utkast | D5: =Områder!D28 -> 130000 | E5: =Områder!E28 -> 0 | G5: =Områder!G28 -> 0
A6: Litteratur | B6: =Litteratur!B28 -> 275000 | C6: utkast | D6: =Litteratur!D28 -> 350000 | E6: =Litteratur!E28 -> 0 | G6: =Litteratur!G28 -> 0
A7: Driftsutgifter for Region | B7: ='Drift Utg.'!B28 -> 6750 | C7: x | D7: ='Drift Utg.'!D28 -> 0 | E7: ='Drift Utg.'!E28 -> 0 | G7: ='Drift Utg.'!G28 -> 0
A8: Leder | B8: =Leder!B28 -> 4900 | C8: x | D8: =Leder!D28 -> 0 | E8: =Leder!E28 -> 0 | G8: =Leder!G28 -> 0
A9: Nestleder | B9: =Nestleder!B28 -> 10000 | C9: x | D9: =Nestleder!D28 -> 0 | E9: =Nestleder!E28 -> 0 | G9: =Nestleder!G28 -> 0
A10: Sekretær | B10: =Sekretær!B28 -> 10000 | C10: x | D10: =Sekretær!D28 -> 0 | E10: =Sekretær!E28 -> 0 | G10: =Sekretær!G28 -> 0
A11: Varasekretær | B11: ='Vara Sekretær'!B28 -> 10000 | C11: x | D11: ='Vara Sekretær'!D28 -> 0 | E11: ='Vara Sekretær'!E28 -> 0 | G11: ='Vara Sekretær'!G28 -> 0
A12: Kasserer | B12: =Kasserer!B28 -> 9370 | C12: x | D12: =Kasserer!D28 -> 0 | E12: =Kasserer!E28 -> 0 | G12: =Kasserer!G28 -> 0
A13: Varakasserer | B13: ='Vara Kasserer'!B28 -> 9370 | C13: x | D13: ='Vara Kasserer'!D28 -> 0 | E13: ='Vara Kasserer'!E28 -> 0 | G13: ='Vara Kasserer'!G28 -> 0
A14: Delegat | B14: =Delegat!B37 -> 26120 | C14: x | D14: =Delegat!D37 -> 0 | E14: =Delegat!E37 -> 0 | G14: =Delegat!G37 -> 0
A15: Varadelegat | B15: ='Vara Delegat'!B37 -> 26120 | C15: x | D15: ='Vara Delegat'!D37 -> 0 | E15: ='Vara Delegat'!E37 -> 0 | G15: ='Vara Delegat'!G37 -> 0
A16: Telefonkom. | B16: =Telefon!B28 -> 27800 | C16: x | D16: =Telefon!D28 -> 0 | E16: =Telefon!E28 -> 0 | G16: =Telefon!G28 -> 0
A17: Webkom. | B17: =Web!B28 -> 17000 | C17: x | D17: =Web!D28 -> 0 | E17: =Web!E28 -> 0 | G17: =Web!G28 -> 0
A18: Oversettelseskom. | B18: =Oversettelse!B28 -> 11400 | C18: x | D18: =Oversettelse!D28 -> 0 | E18: =Oversettelse!E28 -> 0 | G18: =Oversettelse!G28 -> 0
A19: Fellesskapsutv.kom. | B19: =FU!B37 -> 57045 | C19: x | D19: =FU!D37 -> 0 | E19: =FU!E37 -> 0 | G19: =FU!G37 -> 0
A20: Læreservicedag | B20: =Læreservicedag!B28 -> 0 | C20: x | D20: =Læreservicedag!D28 -> 0 | E20: =Læreservicedag!E28 -> 0 | G20: =Læreservicedag!G28 -> 0
A21: OR koordinator 1 | B21: ='OR Koor. 1'!B37 -> 6370 | C21: x | D21: ='OR Koor. 1'!D28 -> 0 | E21: ='OR Koor. 1'!E28 -> 0 | G21: ='OR Koor. 1'!G28 -> 0
A22: OR koordinator 2 | B22: ='OR Koor. 2'!B28 -> 2500 | C22: x | D22: ='OR Koor. 2'!D28 -> 0 | E22: ='OR Koor. 2'!E28 -> 0 | G22: ='OR Koor. 2'!G28 -> 0
A23: ECCNA | B23: =ECCNA!B28 -> 0 | C23: x | D23: =ECCNA!D28 -> 0 | E23: =ECCNA!E28 -> 0 | G23: =ECCNA!G28 -> 0
A24: VIPPS NA Regionen 7. Trad | B24: ='VIPPS NA Regionen'!B28 -> 0 | C24: x | D24: ='VIPPS NA Regionen'!D28 -> 1000 | E24: ='VIPPS NA Regionen'!E28 -> 0 | G24: ='VIPPS NA Regionen'!G28 -> 0
A25: Uforutsette utgifter | B25: ='Uforutsette utgifter'!B28 -> 0 | C25: x | D25: ='Uforutsette utgifter'!D28 -> 0 | E25: ='Uforutsette utgifter'!E28 -> 0 | G25: ='Uforutsette utgifter'!G28 -> 0
A27: Totalt | B27: =SUM(B3:B26) -> 509745 | D27: =SUM(D3:D26) -> 481000 | E27: =SUM(E3:E26) -> 0 | G27: =SUM(G3:G26) -> 0
A28: Resultat | D28: =SUM(D27-B27) -> -28745 | G28: =SUM(G27-E27) -> 0

Sheet Områder
A1: Budsjett Områder | E1: Resultat | I1: Resultat 2025 | J1: 2024 | K1: 2023 | L1: snitt | M1: Så langt 2026 | N1: Kommentar
A2: Hva | B2: UT | D2: INN | E2: UT | G2: INN | I2: INN | J2: INN | K2: INN | L2: INN | M2: INN
A3: Område Nord | C3: x | D3: 10000 | I3: 10000 | J3: 5000 | K3: 5000 | L3: =(I3+J3+K3)/3 -> 6666.6667 | M3: 10000
A4: Område Midt | C4: x | D4: 10000 | I4: 10000 | J4: 10000 | K4: 5000 | L4: =(I4+J4+K4)/3 -> 8333.3333
A5: Område Øst | D5: 50000 | I5: 78000 | J5: 81000 | K5: 130500 | L5: =(I5+J5+K5)/3 -> 96500 | N5: Muligens ikke konvent i 2026 der mya av bidraget kommer fra; RKM informert om at de ikke har kasserer
A6: Område Øst2 | C6: x | D6: 20000 | I6: 65000 | J6: 0 | K6: 10000 | L6: =(I6+J6+K6)/3 -> 25000 | M6: 10000 | N6: RKM gitt beskjed om forventning 20000.- i 2026
A7: Område Sør | C7: x | D7: 25000 | I7: 0 | J7: 37000 | K7: 2300 | L7: =(I7+J7+K7)/3 -> 13100 | N7: RKM gitt beskjed om forventning 25000.- i 2026
A8: Område Vest | C8: x | D8: 15000 | I8: 44880.43 | J8: 0 | K8: 0 | L8: =(I8+J8+K8)/3 -> 14960.143
I10: 1000
H11: Total | I11: =SUM(I3:I10) -> 208880.43 | J11: =SUM(J3:J10) -> 133000 | K11: =SUM(K3:K10) -> 152800 | L11: =SUM(L3:L10) -> 164560.14 | M11: =SUM(M3:M10) -> 20000 | N11: Utfordrende å vurdere på bidrag fra områdene så tidlig i året
B28: =SUM(B3:B27) -> 0 | D28: =SUM(D3:D27) -> 130000 | E28: =SUM(E3:E27) -> 0 | G28: =SUM(G3:G27) -> 0
A29: Resultat | D29: =D28-B28 -> 130000 | G29: =G28-E28 -> 0

Sheet Litteratur
A1: Budsjett Litteratur | E1: Resultat | I1: 2025 | J1: 2024 | K1: 2023 | L1: snitt | M1: Så langt 2026 | N1: Kommentar
A2: Hva | B2: UT | D2: INN | E2: UT | G2: INN | I2: Resultat/Inn | J2: Resultat/Inn | K2: Resultat/Inn | L2: Resultat/Inn | M2: INN
A3: Salgsinntekt | D3: 350000 | I3: 52495 | J3: 58251 | K3: 119204 | L3: =(I3+J3+K3)/3 -> 76650 | N3: Resultat
I4: 100000 | J4: 105000 | K4: 120000 | L4: =(I4+J4+K4)/3 -> 108333.33 | M4: -63000 | N4: Faktisk overføring
N5: Faktsk overført mye mer enn de har tjent
A6: Varekostnad | B6: 125000
A7: Annen driftskostnad | B7: 150000 | I7: Pr. 13.08.26 | J7: Samme som i fjor. Ikke mottat budsjett for 2026
I10: Avtalt med litteraturkommiteen at vi setter opp overføring til regionen på ca. 75000.-. Vil endre frem mot regionsmøtet hvis dette tallet viser seg å være veldig feil.
I11: Har brukt ca tall fra i 2025
B28: =SUM(B3:B27) -> 275000 | D28: =SUM(D3:D27) -> 350000 | E28: =SUM(E3:E27) -> 0 | G28: =SUM(G3:G27) -> 0
A29: Resultat | D29: =D28-B28 -> 75000 | G29: =G28-E28 -> 0

Sheet Drift Utg.
A1: Budsjett Driftsutgifter | E1: Resultat
A2: Hva | B2: UT | D2: INN | E2: UT | G2: INN
A3: Leie av lokale | B3: 3750
A4: Mat og kaffe | B4: 3000
B28: =SUM(B3:B27) -> 6750 | D28: =SUM(D3:D27) -> 0 | E28: =SUM(E3:E27) -> 0 | G28: =SUM(G3:G27) -> 0
A29: Resultat | D29: =D28-B28 -> -6750 | G29: =G28-E28 -> 0

Sheet Leder
A1: Budsjett Leder | E1: Resultat
A2: Hva | B2: UT | D2: INN | E2: UT | G2: INN
A3: Regionsmøte juni Vest
A4: Reise | B4: 2400
A5: Losji | B5: 2500
B28: =SUM(B3:B27) -> 4900 | D28: =SUM(D3:D27) -> 0 | E28: =SUM(E3:E27) -> 0 | G28: =SUM(G3:G27) -> 0
A29: Resultat | D29: =D28-B28 -> -4900 | G29: =G28-E28 -> 0

Sheet Nestleder
A1: Budsjett Nestleder | E1: Resultat
A2: Hva | B2: UT | D2: INN | E2: UT | G2: INN
A3: Reiseutgifter | B3: 10000
B28: =SUM(B3:B27) -> 10000 | D28: =SUM(D3:D27) -> 0 | E28: =SUM(E3:E27) -> 0 | G28: =SUM(G3:G27) -> 0
A29: Resultat | D29: =D28-B28 -> -10000 | G29: =G28-E28 -> 0

Sheet Sekretær
A1: Budsjett Sekretær | E1: Resultat
A2: Hva | B2: UT | D2: INN | E2: UT | G2: INN
A3: Reiseutgifter | B3: 10000
B28: =SUM(B3:B27) -> 10000 | D28: =SUM(D3:D27) -> 0 | E28: =SUM(E3:E27) -> 0 | G28: =SUM(G3:G27) -> 0
A29: Resultat | D29: =D28-B28 -> -10000 | G29: =G28-E28 -> 0

Sheet Vara Sekretær
A1: Budsjett Varasekretær | E1: Resultat
A2: Hva | B2: UT | D2: INN | E2: UT | G2: INN
A3: Reiseutgifter | B3: 10000
B28: =SUM(B3:B27) -> 10000 | D28: =SUM(D3:D27) -> 0 | E28: =SUM(E3:E27) -> 0 | G28: =SUM(G3:G27) -> 0
A29: Resultat | D29: =D28-B28 -> -10000 | G29: =G28-E28 -> 0

Sheet Kasserer
A1: Budsjett kasserer | E1: Resultat
A2: Hva | B2: UT | D2: INN | E2: UT | G2: INN | I2: * Hvis møtene er utenfor Oslo
A3: Regionsmøte juni Vest
A4: Reise | B4: 3000
A5: Losji | B5: 4000
A6: Kost 2x435 | B6: 870
A8: Regionsmøter Øst x 2 * | B8: 1500
B28: =SUM(B3:B27) -> 9370 | D28: =SUM(D3:D27) -> 0 | E28: =SUM(E3:E27) -> 0 | G28: =SUM(G3:G27) -> 0
A29: Resultat | D29: =D28-B28 -> -9370 | G29: =G28-E28 -> 0

Sheet Vara Kasserer
A1: Budsjett Varakasserer | E1: Resultat
A2: Hva | B2: UT | D2: INN | E2: UT | G2: INN
A3: Regionsmøte juni Vest
A4: Reise | B4: 3000
A5: Losji | B5: 4000
A6: Kost 2x435 | B6: 870
A8: Regionsmøter Øst x 2 * | B8: 1500
B28: =SUM(B3:B27) -> 9370 | D28: =SUM(D3:D27) -> 0 | E28: =SUM(E3:E27) -> 0 | G28: =SUM(G3:G27) -> 0
A29: Resultat | D29: =D28-B28 -> -9370 | G29: =G28-E28 -> 0

Sheet Delegat
A1: Budsjett Delegat | E1: Resultat
A2: Hva | B2: UT | D2: INN | E2: UT | G2: INN
A3: Regionsmøte feb | B3: 0
A5: Vinter EDM Santiago de Compostela
A6: Reise Sandnes til Sola Flyplass | B6: 700
A7: Fly | B7: 4500
A8: Flyplass - hotel | B8: 400
A9: Hotel | B9: 4500
A10: Mat diet 6 * 435 | B10: 2610
A11: Lokal trp | B11: 500
A22: Regionsmøte Juni | B22: 0
A24: Sommer EDM Malta
A25: Lokal trp | B25: 400
A26: Fly | B26: 4500
A27: Hotel | B27: 5000
A28: Mat diet 6 * 435 | B28: 2610
A29: Trp Flyplass - hotel | B29: 400
A30: Lokal trp | B30: 0
A32: Regions møte Oktober | B32: 0
B37: =SUM(B3:B36) -> 26120 | D37: =SUM(D3:D36) -> 0 | E37: =SUM(E3:E36) -> 0 | G37: =SUM(G3:G36) -> 0
A38: Resultat | D38: =D37-B37 -> -26120 | G38: =G37-E37 -> 0

Sheet Vara Delegat
A1: Budsjett Varadelegat | E1: Resultat
A2: Hva | B2: UT | D2: INN | E2: UT | G2: INN
A3: Regionsmøte feb | B3: 0
A5: Vinter EDM Santiago de compostela
A6: Reise | B6: 700
A7: Fly | B7: 4500
A8: Flyplass- hotel | B8: 400
A9: Hotel | B9: 4500
A10: Mat diet 6* 435 | B10: 2610
A11: Lokal Transport | B11: 500
A22: Regionsmøte Juni | B22: 0
A24: Sommer EDM Malta
A25: Lokal trp | B25: 400
A26: Fly | B26: 4500
A27: Hotel | B27: 5000
A28: Mat diet 6 * 435 | B28: 2610
A29: Trp Flyplass - hotel | B29: 400
A30: Lokal trp | B30: 0
A32: Regions møte Oktober | B32: 0
B37: =SUM(B3:B36) -> 26120 | D37: =SUM(D3:D36) -> 0 | E37: =SUM(E3:E36) -> 0 | G37: =SUM(G3:G36) -> 0
A38: Resultat | D38: =D37-B37 -> -26120 | G38: =G37-E37 -> 0

Sheet Telefon
A1: Budsjett Telefon | E1: Resultat
A2: Hva | B2: UT | D2: INN | E2: UT | G2: INN
A3: Administrativt kostnader | B3: 1000
A4: Reklamematerialer | B4: 2000
A5: Telefonutgifter | B5: 16800
A6: Regionsmøter | B6: 5000
A7: Reisekostnader for informasjonsmøte for eksempel på konventer | B7: 3000
B28: =SUM(B3:B27) -> 27800 | D28: =SUM(D3:D27) -> 0 | E28: =SUM(E3:E27) -> 0 | G28: =SUM(G3:G27) -> 0
A29: Resultat | D29: =D28-B28 -> -27800 | G29: =G28-E28 -> 0

Sheet Web
A1: Budsjett Web | E1: Resultat
A2: Hva | B2: UT | D2: INN | E2: UT | G2: INN
A3: Regionsmøter | B3: 0
A4: Komitemøter | B4: 1000
A5: Webutvikling/Drift | B5: 10000
A6: Webtjenester | B6: 3000
A7: Domeneleie/Webhotell | B7: 3000
B28: =SUM(B3:B27) -> 17000 | D28: =SUM(D3:D27) -> 0 | E28: =SUM(E3:E27) -> 0 | G28: =SUM(G3:G27) -> 0
A29: Resultat | D29: =D28-B28 -> -17000 | G29: =G28-E28 -> 0

Sheet Oversettelse
A1: Budsjett Oversettelse | E1: Resultat
A2: Hva | B2: UT | D2: INN | E2: UT | G2: INN
A4: Regionsmøte oktober 2026
A5: Kristiansand-Oslo-Kristiansand Reise | B5: 1600
A6: 1 overnatting hotell | B6: 1400
A7: Diett x 2 | B7: 800
A9: Regionsmøte februar 2027
A10: Kristiansand-Oslo-Kristiansand Reise | B10: 1600
A11: 1 overnatting hotell | B11: 1400
A12: Diett x 2 | B12: 800
A14: Regionsmøte juni 2027
A15: Kristiansand-Vest(?) -Kristiansand Reise | B15: 1600
A16: 1 overnatting Hotell | B16: 1400
A17: Diett x 2 | B17: 800
J25: |
B28: =SUM(B3:B27) -> 11400 | D28: =SUM(D3:D27) -> 0 | E28: =SUM(E3:E27) -> 0 | G28: =SUM(G3:G27) -> 0
A29: Resultat | D29: =D28-B28 -> -11400 | G29: =G28-E28 -> 0

Sheet FU
A1: Budsjett FU | E1: Resultat
A2: Hva | B2: UT | D2: INN | E2: UT | G2: INN
A3: Budsjett FU 2027
A4: Regionmøter
A5: Reiseutgifter (februarmøte) Leder | B5: 0
A6: Reiseutgifter (februarmøte) Nestledereder | B6: 0
A7: Reiseutgifter (oktober-møte) Leder | B7: 0
A8: Diett (oktober-møte) Leder | B8: 0
A9: Reiseutgifter (oktober-møte) Nestleder | B9: 0
A10: Diett (oktober-møte) Nestleder | B10: 0
A11: Flybilletter (juni-møte) Leder | B11: 2500
A12: Flybilletter (juni-møte) Nestleder | B12: 2500
A13: Hotell (juni-møte) (2 rom - leder og nestleder) | B13: 8000
A14: Reiseutgifter (juni-møte) Leder | B14: 1000
A15: Reiseutgifter (juni-møte) Nestleder | B15: 500
A16: Diett (juni-møte) Leder | B16: 870
A17: Diett (juni-møte) Nestleder | B17: 870
C18: 16240
A19: Læredag i utland (Berlin) 1 person
A20: Flybillett læredag | B20: 3000
A21: Hotellrom læredag | B21: 4500
A22: Reiseutgifter læredag - inkl. registrering | B22: 1000
A23: Diett læredag | B23: 1305
A24: Sum utgifter læredag | C24: 9805
A26: Andre utgifter
A27: Andre utgifter | B27: 1000
A28: Sum andre utgifter | C28: 1000
A31: FU oppdrag
A32: FU oppdrag | B32: 30000
A33: Sum utgifter FU oppdrag | C33: 30000
B37: =SUM(B3:B36) -> 57045 | D37: =SUM(D3:D36) -> 0 | E37: =SUM(E3:E36) -> 0 | G37: =SUM(G3:G36) -> 0
A38: Resultat | D38: =D37-B37 -> -57045 | G38: =G37-E37 -> 0

Sheet Læreservicedag
A1: Budsjett Læreservicedag | E1: Resultat
A2: Hva | B2: UT | D2: INN | E2: UT | G2: INN
B28: =SUM(B3:B27) -> 0 | D28: =SUM(D3:D27) -> 0 | E28: =SUM(E3:E27) -> 0 | G28: =SUM(G3:G27) -> 0
A29: Resultat | D29: =D28-B28 -> 0 | G29: =G28-E28 -> 0

Sheet OR Koor. 1
A1: Budsjett Koordinator 1 | E1: Resultat
A2: Hva | B2: UT | D2: INN | E2: UT | G2: INN
A3: Transport regionsmøte | B3: 2500
A4: Losji | B4: 3000
A5: Kost | B5: 870
B37: =SUM(B3:B36) -> 6370 | D37: =SUM(D3:D36) -> 0 | E37: =SUM(E3:E36) -> 0 | G37: =SUM(G3:G36) -> 0
A38: Resultat | D38: =D37-B37 -> -6370 | G38: =G37-E37 -> 0

Sheet OR Koor. 2
A1: Budsjett Koordinator 2 | E1: Resultat
A2: Hva | B2: UT | D2: INN | E2: UT | G2: INN
A3: Transport regionsmøte | B3: 2500
B28: =SUM(B3:B27) -> 2500 | D28: =SUM(D3:D27) -> 0 | E28: =SUM(E3:E27) -> 0 | G28: =SUM(G3:G27) -> 0
A29: Resultat | D29: =D28-B28 -> -2500 | G29: =G28-E28 -> 0

Sheet ECCNA
A1: Budsjett ECCNA | E1: Resultat
A2: Hva | B2: UT | D2: INN | E2: UT | G2: INN
B28: =SUM(B3:B27) -> 0 | D28: =SUM(D3:D27) -> 0 | E28: =SUM(E3:E27) -> 0 | G28: =SUM(G3:G27) -> 0
A29: Resultat | D29: =D28-B28 -> 0 | G29: =G28-E28 -> 0

Sheet VIPPS NA Regionen
A1: Budsjett VIPPS NA Regionen | E1: Resultat
A2: Hva | B2: UT | D2: INN | E2: UT | G2: INN
A3: VIPPS | D3: 1000
B28: =SUM(B3:B27) -> 0 | D28: =SUM(D3:D27) -> 1000 | E28: =SUM(E3:E27) -> 0 | G28: =SUM(G3:G27) -> 0
A29: Resultat | D29: =D28-B28 -> 1000 | G29: =G28-E28 -> 0

Sheet Uforutsette utgifter
A1: Budsjett Uforutsette utgifter | E1: Resultat
A2: Hva | B2: UT | D2: INN | E2: UT | G2: INN
A3: Diverse | B3: 0 | I3: * Fjerner disse utgiftene siden vi har en stor buffer til samme formål
B28: =SUM(B3:B27) -> 0 | D28: =SUM(D3:D27) -> 0 | E28: =SUM(E3:E27) -> 0 | G28: =SUM(G3:G27) -> 0
A29: Resultat | D29: =D28-B28 -> 0 | G29: =G28-E28 -> 0

Sheet AdHoc Revisjon 
A1: Budsjett 2024 | E1: Resultat 2024
A2: Hva | B2: UT | D2: INN | E2: UT | G2: INN
B28: =SUM(B3:B27) -> 0 | D28: =SUM(D3:D27) -> 0 | E28: =SUM(E3:E27) -> 0 | G28: =SUM(G3:G27) -> 0
A29: Resultat | D29: =D28-B28 -> 0 | G29: =G28-E28 -> 0

Sheet Mal Kort
A1: Budsjett <service> | E1: Resultat
A2: Hva | B2: UT | D2: INN | E2: UT | G2: INN
B28: =SUM(B3:B27) -> 0 | D28: =SUM(D3:D27) -> 0 | E28: =SUM(E3:E27) -> 0 | G28: =SUM(G3:G27) -> 0
A29: Resultat | D29: =D28-B28 -> 0 | G29: =G28-E28 -> 0

Sheet Mal Lang
A1: Budsjett <service> | E1: Resultat
A2: Hva | B2: UT | D2: INN | E2: UT | G2: INN
B37: =SUM(B3:B36) -> 0 | D37: =SUM(D3:D36) -> 0 | E37: =SUM(E3:E36) -> 0 | G37: =SUM(G3:G36) -> 0
A38: Resultat | D38: =D37-B37 -> 0 | G38: =G37-E37 -> 0
